BEGIN:VCALENDAR
VERSION:2.0
PRODID:-//Columbia Empire Volleyball Association - ECPv6.15.11//NONSGML v1.0//EN
CALSCALE:GREGORIAN
METHOD:PUBLISH
X-WR-CALNAME:Columbia Empire Volleyball Association
X-ORIGINAL-URL:https://cevaregion.org
X-WR-CALDESC:Events for Columbia Empire Volleyball Association
REFRESH-INTERVAL;VALUE=DURATION:PT1H
X-Robots-Tag:noindex
X-PUBLISHED-TTL:PT1H
BEGIN:VTIMEZONE
TZID:America/Los_Angeles
BEGIN:DAYLIGHT
TZOFFSETFROM:-0800
TZOFFSETTO:-0700
TZNAME:PDT
DTSTART:20240310T100000
END:DAYLIGHT
BEGIN:STANDARD
TZOFFSETFROM:-0700
TZOFFSETTO:-0800
TZNAME:PST
DTSTART:20241103T090000
END:STANDARD
BEGIN:DAYLIGHT
TZOFFSETFROM:-0800
TZOFFSETTO:-0700
TZNAME:PDT
DTSTART:20250309T100000
END:DAYLIGHT
BEGIN:STANDARD
TZOFFSETFROM:-0700
TZOFFSETTO:-0800
TZNAME:PST
DTSTART:20251102T090000
END:STANDARD
BEGIN:DAYLIGHT
TZOFFSETFROM:-0800
TZOFFSETTO:-0700
TZNAME:PDT
DTSTART:20260308T100000
END:DAYLIGHT
BEGIN:STANDARD
TZOFFSETFROM:-0700
TZOFFSETTO:-0800
TZNAME:PST
DTSTART:20261101T090000
END:STANDARD
END:VTIMEZONE
BEGIN:VEVENT
DTSTART;VALUE=DATE:20251213
DTEND;VALUE=DATE:20251215
DTSTAMP:20260424T201756
CREATED:20250605T030741Z
LAST-MODIFIED:20250911T143203Z
UID:1077-1765584000-1765756799@cevaregion.org
SUMMARY:CEVA Kickoff Tournament #2
DESCRIPTION:
URL:https://cevaregion.org/event/ceva-kickoff-tournament-2/
LOCATION:Oregon
CATEGORIES:Home Page,Indoor
END:VEVENT
BEGIN:VEVENT
DTSTART;VALUE=DATE:20251213
DTEND;VALUE=DATE:20251215
DTSTAMP:20260424T201756
CREATED:20250815T150832Z
LAST-MODIFIED:20250911T143203Z
UID:2617-1765584000-1765756799@cevaregion.org
SUMMARY:CEVA Girls Power League - Open PL Qualifier
DESCRIPTION:
URL:https://cevaregion.org/event/ceva-girls-power-league-open-pl-qualifier/
LOCATION:Oregon
CATEGORIES:Home Page,Indoor
END:VEVENT
BEGIN:VEVENT
DTSTART;TZID=America/Los_Angeles:20251214T080000
DTEND;TZID=America/Los_Angeles:20251214T170000
DTSTAMP:20260424T201756
CREATED:20251006T193658Z
LAST-MODIFIED:20251111T214346Z
UID:3542-1765699200-1765731600@cevaregion.org
SUMMARY:AGILE Friendship Tournament - 12s
DESCRIPTION:
URL:https://cevaregion.org/event/agile-friendship-tournament-14s/
LOCATION:Faulconer-Chapman School\, 322 SW Cornwall Street\, Sheridan\, OR\, 97378\, United States
CATEGORIES:Indoor
END:VEVENT
BEGIN:VEVENT
DTSTART;TZID=America/Los_Angeles:20251214T080000
DTEND;TZID=America/Los_Angeles:20251214T170000
DTSTAMP:20260424T201756
CREATED:20251111T212631Z
LAST-MODIFIED:20251111T214236Z
UID:3923-1765699200-1765731600@cevaregion.org
SUMMARY:Courthouse Friendship Tournament - 16s & 18s
DESCRIPTION:
URL:https://cevaregion.org/event/courthouse-friendship-tournament-16s-18s/
LOCATION:Salem Academy\, 942 Lancaster Drive NE\, Salem\, OR\, 97301\, United States
CATEGORIES:Indoor
END:VEVENT
END:VCALENDAR