BEGIN:VCALENDAR
VERSION:2.0
PRODID:-//Columbia Empire Volleyball Association - ECPv6.15.11//NONSGML v1.0//EN
CALSCALE:GREGORIAN
METHOD:PUBLISH
X-ORIGINAL-URL:https://cevaregion.org
X-WR-CALDESC:Events for Columbia Empire Volleyball Association
REFRESH-INTERVAL;VALUE=DURATION:PT1H
X-Robots-Tag:noindex
X-PUBLISHED-TTL:PT1H
BEGIN:VTIMEZONE
TZID:America/Los_Angeles
BEGIN:DAYLIGHT
TZOFFSETFROM:-0800
TZOFFSETTO:-0700
TZNAME:PDT
DTSTART:20240310T100000
END:DAYLIGHT
BEGIN:STANDARD
TZOFFSETFROM:-0700
TZOFFSETTO:-0800
TZNAME:PST
DTSTART:20241103T090000
END:STANDARD
BEGIN:DAYLIGHT
TZOFFSETFROM:-0800
TZOFFSETTO:-0700
TZNAME:PDT
DTSTART:20250309T100000
END:DAYLIGHT
BEGIN:STANDARD
TZOFFSETFROM:-0700
TZOFFSETTO:-0800
TZNAME:PST
DTSTART:20251102T090000
END:STANDARD
BEGIN:DAYLIGHT
TZOFFSETFROM:-0800
TZOFFSETTO:-0700
TZNAME:PDT
DTSTART:20260308T100000
END:DAYLIGHT
BEGIN:STANDARD
TZOFFSETFROM:-0700
TZOFFSETTO:-0800
TZNAME:PST
DTSTART:20261101T090000
END:STANDARD
END:VTIMEZONE
BEGIN:VEVENT
DTSTART;TZID=America/Los_Angeles:20251220T080000
DTEND;TZID=America/Los_Angeles:20251220T170000
DTSTAMP:20260424T201754
CREATED:20250929T193832Z
LAST-MODIFIED:20250929T194619Z
UID:3420-1766217600-1766250000@cevaregion.org
SUMMARY:NPJ Friendship Tournament - 16s & 18s
DESCRIPTION:
URL:https://cevaregion.org/event/npj-friendship-tournament-16s-18s/
LOCATION:NPJ Sports Complex\, 4050 Fairview Industrial Drive SE\, Salem\, OR\, 97302\, United States
CATEGORIES:Indoor
END:VEVENT
BEGIN:VEVENT
DTSTART;TZID=America/Los_Angeles:20251220T080000
DTEND;TZID=America/Los_Angeles:20251220T170000
DTSTAMP:20260424T201754
CREATED:20251006T194442Z
LAST-MODIFIED:20251111T214123Z
UID:3548-1766217600-1766250000@cevaregion.org
SUMMARY:AGILE Friendship Tournament - 18s
DESCRIPTION:
URL:https://cevaregion.org/event/agile-friendship-tournament-14s-2/
LOCATION:Faulconer-Chapman School\, 322 SW Cornwall Street\, Sheridan\, OR\, 97378\, United States
CATEGORIES:Indoor
END:VEVENT
BEGIN:VEVENT
DTSTART;TZID=America/Los_Angeles:20251220T080000
DTEND;TZID=America/Los_Angeles:20251220T170000
DTSTAMP:20260424T201754
CREATED:20251114T190530Z
LAST-MODIFIED:20251121T175319Z
UID:3950-1766217600-1766250000@cevaregion.org
SUMMARY:Willamina Friendship Tournament - 14s & 16s
DESCRIPTION:
URL:https://cevaregion.org/event/willamina-friendship-tournament-14s/
LOCATION:Willamina High School\, 1100 NE Oaken Hill Drive #A\, Willamina\, OR\, 97396\, United States
CATEGORIES:Indoor
END:VEVENT
END:VCALENDAR