BEGIN:VCALENDAR
VERSION:2.0
PRODID:-//Columbia Empire Volleyball Association - ECPv6.15.11//NONSGML v1.0//EN
CALSCALE:GREGORIAN
METHOD:PUBLISH
X-WR-CALNAME:Columbia Empire Volleyball Association
X-ORIGINAL-URL:https://cevaregion.org
X-WR-CALDESC:Events for Columbia Empire Volleyball Association
REFRESH-INTERVAL;VALUE=DURATION:PT1H
X-Robots-Tag:noindex
X-PUBLISHED-TTL:PT1H
BEGIN:VTIMEZONE
TZID:America/Los_Angeles
BEGIN:DAYLIGHT
TZOFFSETFROM:-0800
TZOFFSETTO:-0700
TZNAME:PDT
DTSTART:20250309T100000
END:DAYLIGHT
BEGIN:STANDARD
TZOFFSETFROM:-0700
TZOFFSETTO:-0800
TZNAME:PST
DTSTART:20251102T090000
END:STANDARD
BEGIN:DAYLIGHT
TZOFFSETFROM:-0800
TZOFFSETTO:-0700
TZNAME:PDT
DTSTART:20260308T100000
END:DAYLIGHT
BEGIN:STANDARD
TZOFFSETFROM:-0700
TZOFFSETTO:-0800
TZNAME:PST
DTSTART:20261101T090000
END:STANDARD
BEGIN:DAYLIGHT
TZOFFSETFROM:-0800
TZOFFSETTO:-0700
TZNAME:PDT
DTSTART:20270314T100000
END:DAYLIGHT
BEGIN:STANDARD
TZOFFSETFROM:-0700
TZOFFSETTO:-0800
TZNAME:PST
DTSTART:20271107T090000
END:STANDARD
END:VTIMEZONE
BEGIN:VEVENT
DTSTART;TZID=America/Los_Angeles:20260223T180000
DTEND;TZID=America/Los_Angeles:20260223T190000
DTSTAMP:20260424T165547
CREATED:20260107T203546Z
LAST-MODIFIED:20260107T203552Z
UID:4360-1771869600-1771873200@cevaregion.org
SUMMARY:CEVA Diversity & Inclusion Committee Meeting
DESCRIPTION:
URL:https://cevaregion.org/event/ceva-diversity-inclusion-committee-meeting-6/
LOCATION:Oregon
CATEGORIES:board-committees
END:VEVENT
BEGIN:VEVENT
DTSTART;TZID=America/Los_Angeles:20260223T190000
DTEND;TZID=America/Los_Angeles:20260223T200000
DTSTAMP:20260424T165547
CREATED:20260129T023751Z
LAST-MODIFIED:20260129T023751Z
UID:4472-1771873200-1771876800@cevaregion.org
SUMMARY:CEVA Officials Committee Meeting
DESCRIPTION:
URL:https://cevaregion.org/event/ceva-officials-committee-meeting-4/
LOCATION:Oregon
CATEGORIES:board-committees
END:VEVENT
END:VCALENDAR