BEGIN:VCALENDAR
VERSION:2.0
PRODID:-//Columbia Empire Volleyball Association - ECPv6.15.11//NONSGML v1.0//EN
CALSCALE:GREGORIAN
METHOD:PUBLISH
X-WR-CALNAME:Columbia Empire Volleyball Association
X-ORIGINAL-URL:https://cevaregion.org
X-WR-CALDESC:Events for Columbia Empire Volleyball Association
REFRESH-INTERVAL;VALUE=DURATION:PT1H
X-Robots-Tag:noindex
X-PUBLISHED-TTL:PT1H
BEGIN:VTIMEZONE
TZID:America/Los_Angeles
BEGIN:DAYLIGHT
TZOFFSETFROM:-0800
TZOFFSETTO:-0700
TZNAME:PDT
DTSTART:20250309T100000
END:DAYLIGHT
BEGIN:STANDARD
TZOFFSETFROM:-0700
TZOFFSETTO:-0800
TZNAME:PST
DTSTART:20251102T090000
END:STANDARD
BEGIN:DAYLIGHT
TZOFFSETFROM:-0800
TZOFFSETTO:-0700
TZNAME:PDT
DTSTART:20260308T100000
END:DAYLIGHT
BEGIN:STANDARD
TZOFFSETFROM:-0700
TZOFFSETTO:-0800
TZNAME:PST
DTSTART:20261101T090000
END:STANDARD
BEGIN:DAYLIGHT
TZOFFSETFROM:-0800
TZOFFSETTO:-0700
TZNAME:PDT
DTSTART:20270314T100000
END:DAYLIGHT
BEGIN:STANDARD
TZOFFSETFROM:-0700
TZOFFSETTO:-0800
TZNAME:PST
DTSTART:20271107T090000
END:STANDARD
END:VTIMEZONE
BEGIN:VEVENT
DTSTART;VALUE=DATE:20260314
DTEND;VALUE=DATE:20260315
DTSTAMP:20260424T151747
CREATED:20250815T151029Z
LAST-MODIFIED:20250911T143257Z
UID:2623-1773446400-1773532799@cevaregion.org
SUMMARY:CEVA Girls Power League - Open PL #3
DESCRIPTION:
URL:https://cevaregion.org/event/ceva-girls-power-league-open-pl-3/
LOCATION:Oregon
CATEGORIES:Home Page,Indoor
END:VEVENT
BEGIN:VEVENT
DTSTART;VALUE=DATE:20260314
DTEND;VALUE=DATE:20260315
DTSTAMP:20260424T151747
CREATED:20250815T151221Z
LAST-MODIFIED:20250911T143257Z
UID:2629-1773446400-1773532799@cevaregion.org
SUMMARY:CEVA Girls Power League - 18s PL #2
DESCRIPTION:
URL:https://cevaregion.org/event/ceva-girls-power-league-18s-pl-2/
LOCATION:Oregon
CATEGORIES:Home Page,Indoor
END:VEVENT
BEGIN:VEVENT
DTSTART;VALUE=DATE:20260314
DTEND;VALUE=DATE:20260315
DTSTAMP:20260424T151747
CREATED:20250829T214919Z
LAST-MODIFIED:20250911T143257Z
UID:2970-1773446400-1773532799@cevaregion.org
SUMMARY:CEVA Girls Mid-Season Block Party - 14s
DESCRIPTION:
URL:https://cevaregion.org/event/ceva-girls-mid-season-block-party-14s/
LOCATION:Oregon
CATEGORIES:Home Page,Indoor
END:VEVENT
BEGIN:VEVENT
DTSTART;TZID=America/Los_Angeles:20260314T090000
DTEND;TZID=America/Los_Angeles:20260314T170000
DTSTAMP:20260424T151747
CREATED:20260106T213610Z
LAST-MODIFIED:20260106T213610Z
UID:4354-1773478800-1773507600@cevaregion.org
SUMMARY:FCA Clark County Friendship Tournament - 14s
DESCRIPTION:
URL:https://cevaregion.org/event/fca-clark-county-friendship-tournament-14s/
LOCATION:Hockinson HighSchool\, 16819 NE 159th St\, Brush Prairie\, 98606\, United States
CATEGORIES:Indoor
END:VEVENT
END:VCALENDAR