BEGIN:VCALENDAR
VERSION:2.0
PRODID:-//Columbia Empire Volleyball Association - ECPv6.15.11//NONSGML v1.0//EN
CALSCALE:GREGORIAN
METHOD:PUBLISH
X-ORIGINAL-URL:https://cevaregion.org
X-WR-CALDESC:Events for Columbia Empire Volleyball Association
REFRESH-INTERVAL;VALUE=DURATION:PT1H
X-Robots-Tag:noindex
X-PUBLISHED-TTL:PT1H
BEGIN:VTIMEZONE
TZID:America/Los_Angeles
BEGIN:DAYLIGHT
TZOFFSETFROM:-0800
TZOFFSETTO:-0700
TZNAME:PDT
DTSTART:20250309T100000
END:DAYLIGHT
BEGIN:STANDARD
TZOFFSETFROM:-0700
TZOFFSETTO:-0800
TZNAME:PST
DTSTART:20251102T090000
END:STANDARD
BEGIN:DAYLIGHT
TZOFFSETFROM:-0800
TZOFFSETTO:-0700
TZNAME:PDT
DTSTART:20260308T100000
END:DAYLIGHT
BEGIN:STANDARD
TZOFFSETFROM:-0700
TZOFFSETTO:-0800
TZNAME:PST
DTSTART:20261101T090000
END:STANDARD
BEGIN:DAYLIGHT
TZOFFSETFROM:-0800
TZOFFSETTO:-0700
TZNAME:PDT
DTSTART:20270314T100000
END:DAYLIGHT
BEGIN:STANDARD
TZOFFSETFROM:-0700
TZOFFSETTO:-0800
TZNAME:PST
DTSTART:20271107T090000
END:STANDARD
END:VTIMEZONE
BEGIN:VEVENT
DTSTART;VALUE=DATE:20260131
DTEND;VALUE=DATE:20260201
DTSTAMP:20260421T114820
CREATED:20250815T150952Z
LAST-MODIFIED:20250911T143258Z
UID:2621-1769817600-1769903999@cevaregion.org
SUMMARY:CEVA Girls Power League - Open PL #2
DESCRIPTION:
URL:https://cevaregion.org/event/ceva-girls-power-league-open-pl-2/
LOCATION:OR
CATEGORIES:Home Page,Indoor
END:VEVENT
BEGIN:VEVENT
DTSTART;VALUE=DATE:20260131
DTEND;VALUE=DATE:20260201
DTSTAMP:20260421T114820
CREATED:20250815T151141Z
LAST-MODIFIED:20250911T143258Z
UID:2627-1769817600-1769903999@cevaregion.org
SUMMARY:CEVA Girls Power League - 18s PL #1
DESCRIPTION:
URL:https://cevaregion.org/event/ceva-girls-power-league-18s-pl-1/
LOCATION:OR
CATEGORIES:Home Page,Indoor
END:VEVENT
BEGIN:VEVENT
DTSTART;TZID=America/Los_Angeles:20260131T150000
DTEND;TZID=America/Los_Angeles:20260131T150000
DTSTAMP:20260421T114820
CREATED:20251105T001813Z
LAST-MODIFIED:20251105T001813Z
UID:3830-1769871600-1769871600@cevaregion.org
SUMMARY:CEVA JNC Bid Tournament Registration Deadline (3:00)
DESCRIPTION:
URL:https://cevaregion.org/event/ceva-jnc-bid-tournament-registration-deadline-300/
LOCATION:OR
CATEGORIES:Home Page
END:VEVENT
END:VCALENDAR