BEGIN:VCALENDAR
VERSION:2.0
PRODID:-//Columbia Empire Volleyball Association - ECPv6.15.11//NONSGML v1.0//EN
CALSCALE:GREGORIAN
METHOD:PUBLISH
X-WR-CALNAME:Columbia Empire Volleyball Association
X-ORIGINAL-URL:https://cevaregion.org
X-WR-CALDESC:Events for Columbia Empire Volleyball Association
REFRESH-INTERVAL;VALUE=DURATION:PT1H
X-Robots-Tag:noindex
X-PUBLISHED-TTL:PT1H
BEGIN:VTIMEZONE
TZID:America/Los_Angeles
BEGIN:DAYLIGHT
TZOFFSETFROM:-0800
TZOFFSETTO:-0700
TZNAME:PDT
DTSTART:20240310T100000
END:DAYLIGHT
BEGIN:STANDARD
TZOFFSETFROM:-0700
TZOFFSETTO:-0800
TZNAME:PST
DTSTART:20241103T090000
END:STANDARD
BEGIN:DAYLIGHT
TZOFFSETFROM:-0800
TZOFFSETTO:-0700
TZNAME:PDT
DTSTART:20250309T100000
END:DAYLIGHT
BEGIN:STANDARD
TZOFFSETFROM:-0700
TZOFFSETTO:-0800
TZNAME:PST
DTSTART:20251102T090000
END:STANDARD
BEGIN:DAYLIGHT
TZOFFSETFROM:-0800
TZOFFSETTO:-0700
TZNAME:PDT
DTSTART:20260308T100000
END:DAYLIGHT
BEGIN:STANDARD
TZOFFSETFROM:-0700
TZOFFSETTO:-0800
TZNAME:PST
DTSTART:20261101T090000
END:STANDARD
END:VTIMEZONE
BEGIN:VEVENT
DTSTART;TZID=America/Los_Angeles:20251103T180000
DTEND;TZID=America/Los_Angeles:20251103T190000
DTSTAMP:20260424T201755
CREATED:20250828T173354Z
LAST-MODIFIED:20250828T173354Z
UID:2902-1762192800-1762196400@cevaregion.org
SUMMARY:CEVA Power League Registration & Seeding Informational Meeting
DESCRIPTION:
URL:https://cevaregion.org/event/ceva-power-league-registration-seeding-informational-meeting/
LOCATION:Oregon
CATEGORIES:board-committees
END:VEVENT
BEGIN:VEVENT
DTSTART;VALUE=DATE:20251109
DTEND;VALUE=DATE:20251110
DTSTAMP:20260424T201755
CREATED:20250605T030626Z
LAST-MODIFIED:20250918T011219Z
UID:1071-1762646400-1762732799@cevaregion.org
SUMMARY:Junior Girls' Tryouts & Signing Day - 14 & Under
DESCRIPTION:
URL:https://cevaregion.org/event/junior-girls-tryouts-may-begin-14-under/
LOCATION:Oregon
CATEGORIES:Home Page,Indoor
END:VEVENT
BEGIN:VEVENT
DTSTART;TZID=America/Los_Angeles:20251110T171500
DTEND;TZID=America/Los_Angeles:20251110T181500
DTSTAMP:20260424T201755
CREATED:20251014T163137Z
LAST-MODIFIED:20251014T163137Z
UID:3620-1762794900-1762798500@cevaregion.org
SUMMARY:CEVA Adult Committee Meeting
DESCRIPTION:
URL:https://cevaregion.org/event/ceva-adult-committee-meeting-2/
LOCATION:Oregon
CATEGORIES:board-committees
END:VEVENT
BEGIN:VEVENT
DTSTART;TZID=America/Los_Angeles:20251110T183000
DTEND;TZID=America/Los_Angeles:20251110T193000
DTSTAMP:20260424T201755
CREATED:20250904T151604Z
LAST-MODIFIED:20250904T151604Z
UID:3031-1762799400-1762803000@cevaregion.org
SUMMARY:CEVA Diversity & Inclusion Committee Meeting
DESCRIPTION:
URL:https://cevaregion.org/event/ceva-diversity-inclusion-committee-meeting-4/
LOCATION:Oregon
CATEGORIES:board-committees
END:VEVENT
BEGIN:VEVENT
DTSTART;VALUE=DATE:20251116
DTEND;VALUE=DATE:20251117
DTSTAMP:20260424T201755
CREATED:20250605T030647Z
LAST-MODIFIED:20250918T011308Z
UID:1073-1763251200-1763337599@cevaregion.org
SUMMARY:Junior Girls' Tryouts & Signing Day - 15 & Older
DESCRIPTION:
URL:https://cevaregion.org/event/junior-girls-tryouts-may-begin-15-older/
LOCATION:Oregon
CATEGORIES:Home Page,Indoor
END:VEVENT
BEGIN:VEVENT
DTSTART;TZID=America/Los_Angeles:20251117T180000
DTEND;TZID=America/Los_Angeles:20251117T190000
DTSTAMP:20260424T201755
CREATED:20251101T193411Z
LAST-MODIFIED:20251101T193411Z
UID:3804-1763402400-1763406000@cevaregion.org
SUMMARY:CEVA Board Development Committee Meeting
DESCRIPTION:
URL:https://cevaregion.org/event/ceva-board-development-committee-meeting-2/
LOCATION:Oregon
CATEGORIES:board-committees
END:VEVENT
BEGIN:VEVENT
DTSTART;TZID=America/Los_Angeles:20251120T180000
DTEND;TZID=America/Los_Angeles:20251120T190000
DTSTAMP:20260424T201755
CREATED:20250825T200159Z
LAST-MODIFIED:20250825T200159Z
UID:2860-1763661600-1763665200@cevaregion.org
SUMMARY:CEVA Junior Boys Committee Meeting
DESCRIPTION:
URL:https://cevaregion.org/event/ceva-junior-boys-committee-meeting-2/
LOCATION:Oregon
CATEGORIES:board-committees
END:VEVENT
BEGIN:VEVENT
DTSTART;TZID=America/Los_Angeles:20251121T080000
DTEND;TZID=America/Los_Angeles:20251121T170000
DTSTAMP:20260424T201755
CREATED:20251121T181020Z
LAST-MODIFIED:20251121T181020Z
UID:4033-1763712000-1763744400@cevaregion.org
SUMMARY:Willamina Friendship Tournament - 14s
DESCRIPTION:
URL:https://cevaregion.org/event/willamina-friendship-tournament-14s-3/
LOCATION:Willamina High School\, 1100 NE Oaken Hill Drive #A\, Willamina\, OR\, 97396\, United States
CATEGORIES:Indoor
END:VEVENT
BEGIN:VEVENT
DTSTART;TZID=America/Los_Angeles:20251121T080000
DTEND;TZID=America/Los_Angeles:20251121T170000
DTSTAMP:20260424T201755
CREATED:20251121T183037Z
LAST-MODIFIED:20251121T183037Z
UID:4039-1763712000-1763744400@cevaregion.org
SUMMARY:Willamina Friendship Tournament - 12s & 18s
DESCRIPTION:
URL:https://cevaregion.org/event/willamina-friendship-tournament-12s-18s/
LOCATION:Willamina High School\, 1100 NE Oaken Hill Drive #A\, Willamina\, OR\, 97396\, United States
CATEGORIES:Indoor
END:VEVENT
BEGIN:VEVENT
DTSTART;TZID=America/Los_Angeles:20251124T180000
DTEND;TZID=America/Los_Angeles:20251124T190000
DTSTAMP:20260424T201755
CREATED:20251014T213229Z
LAST-MODIFIED:20251014T213229Z
UID:3626-1764007200-1764010800@cevaregion.org
SUMMARY:CEVA Open PL Workgroup Meeting
DESCRIPTION:
URL:https://cevaregion.org/event/ceva-open-pl-workgroup-meeting-2/
LOCATION:Oregon
CATEGORIES:board-committees
END:VEVENT
BEGIN:VEVENT
DTSTART;TZID=America/Los_Angeles:20251124T190000
DTEND;TZID=America/Los_Angeles:20251124T200000
DTSTAMP:20260424T201755
CREATED:20251117T225724Z
LAST-MODIFIED:20251117T230351Z
UID:3985-1764010800-1764014400@cevaregion.org
SUMMARY:CEVA Officials Committee Meeting
DESCRIPTION:
URL:https://cevaregion.org/event/ceva-officials-committee-meeting/
LOCATION:Oregon
CATEGORIES:board-committees
END:VEVENT
BEGIN:VEVENT
DTSTART;TZID=America/Los_Angeles:20251130T150000
DTEND;TZID=America/Los_Angeles:20251130T150000
DTSTAMP:20260424T201755
CREATED:20251105T001652Z
LAST-MODIFIED:20251105T001652Z
UID:3826-1764514800-1764514800@cevaregion.org
SUMMARY:CEVA Athlete Success Fund Application Deadline (3:00)
DESCRIPTION:
URL:https://cevaregion.org/event/ceva-athlete-success-fund-application-deadline-300/
LOCATION:Oregon
CATEGORIES:Home Page
END:VEVENT
END:VCALENDAR