BEGIN:VCALENDAR
VERSION:2.0
PRODID:-//Columbia Empire Volleyball Association - ECPv6.15.11//NONSGML v1.0//EN
CALSCALE:GREGORIAN
METHOD:PUBLISH
X-WR-CALNAME:Columbia Empire Volleyball Association
X-ORIGINAL-URL:https://cevaregion.org
X-WR-CALDESC:Events for Columbia Empire Volleyball Association
REFRESH-INTERVAL;VALUE=DURATION:PT1H
X-Robots-Tag:noindex
X-PUBLISHED-TTL:PT1H
BEGIN:VTIMEZONE
TZID:America/Los_Angeles
BEGIN:DAYLIGHT
TZOFFSETFROM:-0800
TZOFFSETTO:-0700
TZNAME:PDT
DTSTART:20250309T100000
END:DAYLIGHT
BEGIN:STANDARD
TZOFFSETFROM:-0700
TZOFFSETTO:-0800
TZNAME:PST
DTSTART:20251102T090000
END:STANDARD
BEGIN:DAYLIGHT
TZOFFSETFROM:-0800
TZOFFSETTO:-0700
TZNAME:PDT
DTSTART:20260308T100000
END:DAYLIGHT
BEGIN:STANDARD
TZOFFSETFROM:-0700
TZOFFSETTO:-0800
TZNAME:PST
DTSTART:20261101T090000
END:STANDARD
BEGIN:DAYLIGHT
TZOFFSETFROM:-0800
TZOFFSETTO:-0700
TZNAME:PDT
DTSTART:20270314T100000
END:DAYLIGHT
BEGIN:STANDARD
TZOFFSETFROM:-0700
TZOFFSETTO:-0800
TZNAME:PST
DTSTART:20271107T090000
END:STANDARD
END:VTIMEZONE
BEGIN:VEVENT
DTSTART;TZID=America/Los_Angeles:20260103T080000
DTEND;TZID=America/Los_Angeles:20260103T170000
DTSTAMP:20260421T130530
CREATED:20251021T174434Z
LAST-MODIFIED:20251113T195847Z
UID:3681-1767427200-1767459600@cevaregion.org
SUMMARY:OJVA Friendship Tournament - 12s
DESCRIPTION:
URL:https://cevaregion.org/event/ojva-friendship-tournament-12s/
LOCATION:The Courts in Beaverton\, 14523 SW Milikian Way\, Beaverton\, OR\, 97005\, United States
CATEGORIES:Indoor
END:VEVENT
BEGIN:VEVENT
DTSTART;TZID=America/Los_Angeles:20260104T080000
DTEND;TZID=America/Los_Angeles:20260104T170000
DTSTAMP:20260421T130530
CREATED:20251021T174631Z
LAST-MODIFIED:20251113T195914Z
UID:3684-1767513600-1767546000@cevaregion.org
SUMMARY:OJVA Friendship Tournament - 14s
DESCRIPTION:
URL:https://cevaregion.org/event/ojva-friendship-tournament-14s/
LOCATION:The Courts in Beaverton\, 14523 SW Milikian Way\, Beaverton\, OR\, 97005\, United States
CATEGORIES:Indoor
END:VEVENT
BEGIN:VEVENT
DTSTART;TZID=America/Los_Angeles:20260111T080000
DTEND;TZID=America/Los_Angeles:20260111T170000
DTSTAMP:20260421T130530
CREATED:20251021T174911Z
LAST-MODIFIED:20251113T195940Z
UID:3686-1768118400-1768150800@cevaregion.org
SUMMARY:OJVA Friendship Tournament - 16s
DESCRIPTION:
URL:https://cevaregion.org/event/ojva-friendship-tournament-16s/
LOCATION:The Courts in Beaverton\, 14523 SW Milikian Way\, Beaverton\, OR\, 97005\, United States
CATEGORIES:Indoor
END:VEVENT
BEGIN:VEVENT
DTSTART;TZID=America/Los_Angeles:20260117T080000
DTEND;TZID=America/Los_Angeles:20260117T170000
DTSTAMP:20260421T130530
CREATED:20251111T211648Z
LAST-MODIFIED:20251111T214033Z
UID:3909-1768636800-1768669200@cevaregion.org
SUMMARY:Sunset Friendship Tournament - 16s
DESCRIPTION:
URL:https://cevaregion.org/event/sunset-friendship-tournament-16s/
LOCATION:Boys and Girls Club of Albany\, 1215 Hill St SE\, Albany\, OR\, 97322\, United States
CATEGORIES:Indoor
END:VEVENT
BEGIN:VEVENT
DTSTART;TZID=America/Los_Angeles:20260117T080000
DTEND;TZID=America/Los_Angeles:20260117T170000
DTSTAMP:20260421T130530
CREATED:20251121T180655Z
LAST-MODIFIED:20251121T180655Z
UID:4031-1768636800-1768669200@cevaregion.org
SUMMARY:Willamina Friendship Tournament - 12s & 16s
DESCRIPTION:
URL:https://cevaregion.org/event/willamina-friendship-tournament-12s-16s/
LOCATION:Willamina High School\, 1100 NE Oaken Hill Drive #A\, Willamina\, OR\, 97396\, United States
CATEGORIES:Indoor
END:VEVENT
BEGIN:VEVENT
DTSTART;TZID=America/Los_Angeles:20260117T080000
DTEND;TZID=America/Los_Angeles:20260118T170000
DTSTAMP:20260421T130530
CREATED:20251027T192025Z
LAST-MODIFIED:20251111T214013Z
UID:3729-1768636800-1768755600@cevaregion.org
SUMMARY:ATHENAVB Friendship Two-Day Tournament - 14s\, 16s & 18s
DESCRIPTION:
URL:https://cevaregion.org/event/athenavb-friendship-two-day-tournament-14s-16s-18s/
LOCATION:Olympus Sports Center\, 3085 NE Brookwood Parkway\, Hillsboro\, OR\, 97124\, United States
CATEGORIES:Indoor
END:VEVENT
BEGIN:VEVENT
DTSTART;TZID=America/Los_Angeles:20260118T080000
DTEND;TZID=America/Los_Angeles:20260118T170000
DTSTAMP:20260421T130530
CREATED:20251124T231051Z
LAST-MODIFIED:20251124T231051Z
UID:4069-1768723200-1768755600@cevaregion.org
SUMMARY:Willamina Friendship Tournament - 14s
DESCRIPTION:
URL:https://cevaregion.org/event/willamina-friendship-tournament-14s-4/
LOCATION:Willamina High School\, 1100 NE Oaken Hill Drive #A\, Willamina\, OR\, 97396\, United States
CATEGORIES:Indoor
END:VEVENT
END:VCALENDAR