BEGIN:VCALENDAR
VERSION:2.0
PRODID:-//Columbia Empire Volleyball Association - ECPv6.15.11//NONSGML v1.0//EN
CALSCALE:GREGORIAN
METHOD:PUBLISH
X-WR-CALNAME:Columbia Empire Volleyball Association
X-ORIGINAL-URL:https://cevaregion.org
X-WR-CALDESC:Events for Columbia Empire Volleyball Association
REFRESH-INTERVAL;VALUE=DURATION:PT1H
X-Robots-Tag:noindex
X-PUBLISHED-TTL:PT1H
BEGIN:VTIMEZONE
TZID:America/Los_Angeles
BEGIN:DAYLIGHT
TZOFFSETFROM:-0800
TZOFFSETTO:-0700
TZNAME:PDT
DTSTART:20250309T100000
END:DAYLIGHT
BEGIN:STANDARD
TZOFFSETFROM:-0700
TZOFFSETTO:-0800
TZNAME:PST
DTSTART:20251102T090000
END:STANDARD
BEGIN:DAYLIGHT
TZOFFSETFROM:-0800
TZOFFSETTO:-0700
TZNAME:PDT
DTSTART:20260308T100000
END:DAYLIGHT
BEGIN:STANDARD
TZOFFSETFROM:-0700
TZOFFSETTO:-0800
TZNAME:PST
DTSTART:20261101T090000
END:STANDARD
BEGIN:DAYLIGHT
TZOFFSETFROM:-0800
TZOFFSETTO:-0700
TZNAME:PDT
DTSTART:20270314T100000
END:DAYLIGHT
BEGIN:STANDARD
TZOFFSETFROM:-0700
TZOFFSETTO:-0800
TZNAME:PST
DTSTART:20271107T090000
END:STANDARD
END:VTIMEZONE
BEGIN:VEVENT
DTSTART;TZID=America/Los_Angeles:20260322T080000
DTEND;TZID=America/Los_Angeles:20260322T170000
DTSTAMP:20260421T114810
CREATED:20251006T193309Z
LAST-MODIFIED:20251111T213121Z
UID:3540-1774166400-1774198800@cevaregion.org
SUMMARY:AGILE Friendship Tournament - 18s
DESCRIPTION:
URL:https://cevaregion.org/event/agile-friendship-tournament-18s/
LOCATION:Faulconer-Chapman School\, 322 SW Cornwall Street\, Sheridan\, OR\, 97378\, United States
CATEGORIES:Indoor
END:VEVENT
BEGIN:VEVENT
DTSTART;TZID=America/Los_Angeles:20260322T080000
DTEND;TZID=America/Los_Angeles:20260322T170000
DTSTAMP:20260421T114810
CREATED:20251030T195908Z
LAST-MODIFIED:20251113T200145Z
UID:3771-1774166400-1774198800@cevaregion.org
SUMMARY:OJVA Friendship Tournament - 14s
DESCRIPTION:
URL:https://cevaregion.org/event/ojva-friendship-tournament-14s-3/
LOCATION:The Courts in Beaverton\, 14523 SW Milikian Way\, Beaverton\, OR\, 97005\, United States
CATEGORIES:Indoor
END:VEVENT
BEGIN:VEVENT
DTSTART;TZID=America/Los_Angeles:20260322T080000
DTEND;TZID=America/Los_Angeles:20260322T170000
DTSTAMP:20260421T114810
CREATED:20251121T183454Z
LAST-MODIFIED:20251121T183454Z
UID:4041-1774166400-1774198800@cevaregion.org
SUMMARY:Willamina Friendship Tournament - 14s & 16s
DESCRIPTION:
URL:https://cevaregion.org/event/willamina-friendship-tournament-14s-16s/
LOCATION:Willamina High School\, 1100 NE Oaken Hill Drive #A\, Willamina\, OR\, 97396\, United States
CATEGORIES:Indoor
END:VEVENT
END:VCALENDAR